BEGIN:VCALENDAR
VERSION:2.0
CALSCALE:GREGORIAN
PRODID:adamgibbons/ics
METHOD:PUBLISH
X-PUBLISHED-TTL:PT1H
BEGIN:VEVENT
UID:418@agenda.arree.bzh
SUMMARY:1ER MAI - CONFÉRENCE DE HACKING SOCIAL - Les Autoritaires\, que fai
	re ?
DTSTAMP:20260422T172349Z
DTSTART:20260501T103000Z
DTEND:20260501T160000Z
URL:https://agenda.arree.bzh/event/1er-mai-conference-de-hacking-social-les
	-autoritaires-que-faire
LOCATION:2D - voie d'accès au Port 29600 Morlaix
STATUS:CONFIRMED
CATEGORIES:AntiFascisme,Assemblée Populaire,Conférence,Morlaix
END:VEVENT
END:VCALENDAR
